BEGIN:VCALENDAR
VERSION:2.0
PRODID:JMS Hockey
X-PUBLISHED-TTL:P1W
BEGIN:VEVENT
UID:69e797fb47b4f
DTSTART:20150713T010000Z
SEQUENCE:0
TRANSP:OPAQUE
DTEND:20150713T021500Z
URL:http://jmshockey.com/league/game/315
LOCATION:Eden Prairie Comm Ctr
SUMMARY:Beer League Racers* vs. The Quebec No-Dekes at Eden Prairie Comm Ct
 r (Loon State Hockey Leagues)
CLASS:PUBLIC
DTSTAMP:20260421T103003Z
END:VEVENT
END:VCALENDAR