BEGIN:VCALENDAR
VERSION:2.0
PRODID:JMS Hockey
X-PUBLISHED-TTL:P1W
BEGIN:VEVENT
UID:69e791d5a9ef7
DTSTART:20150712T233000Z
SEQUENCE:0
TRANSP:OPAQUE
DTEND:20150713T004500Z
URL:http://jmshockey.com/league/game/314
LOCATION:Eden Prairie Comm Ctr
SUMMARY:Water Bottle Flight Technicians vs. Seal Team Sticks at Eden Prairi
 e Comm Ctr (Loon State Hockey Leagues)
CLASS:PUBLIC
DTSTAMP:20260421T100349Z
END:VEVENT
END:VCALENDAR