BEGIN:VCALENDAR
VERSION:2.0
PRODID:JMS Hockey
X-PUBLISHED-TTL:P1W
BEGIN:VEVENT
UID:69e7a5a176e80
DTSTART:20150628T233000Z
SEQUENCE:0
TRANSP:OPAQUE
DTEND:20150629T004500Z
URL:http://jmshockey.com/league/game/312
LOCATION:Eden Prairie Comm Ctr
SUMMARY:Seal Team Sticks vs. Beer League Racers* at Eden Prairie Comm Ctr (
 Loon State Hockey Leagues)
CLASS:PUBLIC
DTSTAMP:20260421T112817Z
END:VEVENT
END:VCALENDAR