BEGIN:VCALENDAR
VERSION:2.0
PRODID:JMS Hockey
X-PUBLISHED-TTL:P1W
BEGIN:VEVENT
UID:69e7a5a106b45
DTSTART:20150621T233000Z
SEQUENCE:0
TRANSP:OPAQUE
DTEND:20150622T004500Z
URL:http://jmshockey.com/league/game/310
LOCATION:Eden Prairie Comm Ctr
SUMMARY:The Quebec No-Dekes vs. Seal Team Sticks at Eden Prairie Comm Ctr (
 Loon State Hockey Leagues)
CLASS:PUBLIC
DTSTAMP:20260421T112817Z
END:VEVENT
END:VCALENDAR