BEGIN:VCALENDAR
VERSION:2.0
PRODID:JMS Hockey
X-PUBLISHED-TTL:P1W
BEGIN:VEVENT
UID:69e7ae0810166
DTSTART:20150622T013000Z
SEQUENCE:0
TRANSP:OPAQUE
DTEND:20150622T023000Z
URL:http://jmshockey.com/league/game/282
LOCATION:Roseville Skating Center
SUMMARY:Roseville Summer 15' Team C vs. Battlestar Goalactica at Roseville 
 Skating Center (Loon State Hockey Leagues)
CLASS:PUBLIC
DTSTAMP:20260421T120408Z
END:VEVENT
END:VCALENDAR