BEGIN:VCALENDAR
VERSION:2.0
PRODID:JMS Hockey
X-PUBLISHED-TTL:P1W
BEGIN:VEVENT
UID:69e7b5ed7861c
DTSTART:20150816T214500Z
SEQUENCE:0
TRANSP:OPAQUE
DTEND:20150816T224500Z
URL:http://jmshockey.com/league/game/256
LOCATION:St. Paul Academy Drake
SUMMARY:One-Timers vs. 14 Blades of Grey at St. Paul Academy Drake (Loon St
 ate Hockey Leagues)
CLASS:PUBLIC
DTSTAMP:20260421T123749Z
END:VEVENT
END:VCALENDAR