BEGIN:VCALENDAR
VERSION:2.0
PRODID:JMS Hockey
X-PUBLISHED-TTL:P1W
BEGIN:VEVENT
UID:69e7a5a1a2333
DTSTART:20150809T180000Z
SEQUENCE:0
TRANSP:OPAQUE
DTEND:20150809T190000Z
URL:http://jmshockey.com/league/game/253
LOCATION:St. Paul Academy Drake
SUMMARY:One-Timers vs. Mighty Ducks at St. Paul Academy Drake (Loon State H
 ockey Leagues)
CLASS:PUBLIC
DTSTAMP:20260421T112817Z
END:VEVENT
END:VCALENDAR