BEGIN:VCALENDAR
VERSION:2.0
PRODID:JMS Hockey
X-PUBLISHED-TTL:P1W
BEGIN:VEVENT
UID:69e7afcd54e14
DTSTART:20150712T213000Z
SEQUENCE:0
TRANSP:OPAQUE
DTEND:20150712T223000Z
URL:http://jmshockey.com/league/game/249
LOCATION:St. Paul Academy Drake
SUMMARY:Rack Pack vs. One-Timers at St. Paul Academy Drake (Loon State Hock
 ey Leagues)
CLASS:PUBLIC
DTSTAMP:20260421T121141Z
END:VEVENT
END:VCALENDAR