BEGIN:VCALENDAR
VERSION:2.0
PRODID:JMS Hockey
X-PUBLISHED-TTL:P1W
BEGIN:VEVENT
UID:69e7a7eb56f19
DTSTART:20150726T213000Z
SEQUENCE:0
TRANSP:OPAQUE
DTEND:20150726T223000Z
URL:http://jmshockey.com/league/game/246
LOCATION:St. Paul Academy Drake
SUMMARY:Mighty Ducks vs. Rack Pack at St. Paul Academy Drake (Loon State Ho
 ckey Leagues)
CLASS:PUBLIC
DTSTAMP:20260421T113803Z
END:VEVENT
END:VCALENDAR