BEGIN:VCALENDAR
VERSION:2.0
PRODID:JMS Hockey
X-PUBLISHED-TTL:P1W
BEGIN:VEVENT
UID:69e7ae0564081
DTSTART:20250818T002000Z
SEQUENCE:0
TRANSP:OPAQUE
DTEND:20250818T013500Z
URL:http://jmshockey.com/league/game/2388
LOCATION:Doug Woog Arena (Wakota)
SUMMARY:Bardown Bandits vs. Staal Tactics at Doug Woog Arena (Wakota) (Loon
  State Hockey Leagues)
CLASS:PUBLIC
DTSTAMP:20260421T120405Z
END:VEVENT
END:VCALENDAR