BEGIN:VCALENDAR
VERSION:2.0
PRODID:JMS Hockey
X-PUBLISHED-TTL:P1W
BEGIN:VEVENT
UID:69e7b19f92b66
DTSTART:20250714T002000Z
SEQUENCE:0
TRANSP:OPAQUE
DTEND:20250714T013500Z
URL:http://jmshockey.com/league/game/2381
LOCATION:Doug Woog Arena (Wakota)
SUMMARY:Farmboys vs. Staal Tactics at Doug Woog Arena (Wakota) (Loon State 
 Hockey Leagues)
CLASS:PUBLIC
DTSTAMP:20260421T121927Z
END:VEVENT
END:VCALENDAR