BEGIN:VCALENDAR
VERSION:2.0
PRODID:JMS Hockey
X-PUBLISHED-TTL:P1W
BEGIN:VEVENT
UID:69e79a874e52a
DTSTART:20250616T002000Z
SEQUENCE:0
TRANSP:OPAQUE
DTEND:20250616T013500Z
URL:http://jmshockey.com/league/game/2372
LOCATION:Doug Woog Arena (Wakota)
SUMMARY:Bardown Bandits vs. Rubber Puckies at Doug Woog Arena (Wakota) (Loo
 n State Hockey Leagues)
CLASS:PUBLIC
DTSTAMP:20260421T104055Z
END:VEVENT
END:VCALENDAR