BEGIN:VCALENDAR
VERSION:2.0
PRODID:JMS Hockey
X-PUBLISHED-TTL:P1W
BEGIN:VEVENT
UID:69e7a98138fdd
DTSTART:20250519T015500Z
SEQUENCE:0
TRANSP:OPAQUE
DTEND:20250519T031000Z
URL:http://jmshockey.com/league/game/2371
LOCATION:Doug Woog Arena (Wakota)
SUMMARY:Staal Tactics vs. Bar Down Bandits at Doug Woog Arena (Wakota) (Loo
 n State Hockey Leagues)
CLASS:PUBLIC
DTSTAMP:20260421T114449Z
END:VEVENT
END:VCALENDAR