BEGIN:VCALENDAR
VERSION:2.0
PRODID:JMS Hockey
X-PUBLISHED-TTL:P1W
BEGIN:VEVENT
UID:69e783dfc5724
DTSTART:20150412T223000Z
SEQUENCE:0
TRANSP:OPAQUE
DTEND:20150413T000000Z
URL:http://jmshockey.com/league/game/237
LOCATION:Augsburg
SUMMARY:Loons vs. Minnesota Mild at Augsburg (Loon State Hockey Leagues)
CLASS:PUBLIC
DTSTAMP:20260421T090415Z
END:VEVENT
END:VCALENDAR