BEGIN:VCALENDAR
VERSION:2.0
PRODID:JMS Hockey
X-PUBLISHED-TTL:P1W
BEGIN:VEVENT
UID:69e7ae04bb5a2
DTSTART:20250512T013500Z
SEQUENCE:0
TRANSP:OPAQUE
DTEND:20250512T025000Z
URL:http://jmshockey.com/league/game/2369
LOCATION:Doug Woog Arena (Wakota)
SUMMARY:Farmboys vs. Bar Down Bandits at Doug Woog Arena (Wakota) (Loon Sta
 te Hockey Leagues)
CLASS:PUBLIC
DTSTAMP:20260421T120404Z
END:VEVENT
END:VCALENDAR