BEGIN:VCALENDAR
VERSION:2.0
PRODID:JMS Hockey
X-PUBLISHED-TTL:P1W
BEGIN:VEVENT
UID:69e7ab44b1283
DTSTART:20250505T020500Z
SEQUENCE:0
TRANSP:OPAQUE
DTEND:20250505T032000Z
URL:http://jmshockey.com/league/game/2367
LOCATION:Doug Woog Arena (Wakota)
SUMMARY:Rubber Puckies vs. Bar Down Bandits at Doug Woog Arena (Wakota) (Lo
 on State Hockey Leagues)
CLASS:PUBLIC
DTSTAMP:20260421T115220Z
END:VEVENT
END:VCALENDAR