BEGIN:VCALENDAR
VERSION:2.0
PRODID:JMS Hockey
X-PUBLISHED-TTL:P1W
BEGIN:VEVENT
UID:69e7cba8cd880
DTSTART:20250505T004000Z
SEQUENCE:0
TRANSP:OPAQUE
DTEND:20250505T015500Z
URL:http://jmshockey.com/league/game/2366
LOCATION:Doug Woog Arena (Wakota)
SUMMARY:Farmboys vs. Staal Tactics at Doug Woog Arena (Wakota) (Loon State 
 Hockey Leagues)
CLASS:PUBLIC
DTSTAMP:20260421T141032Z
END:VEVENT
END:VCALENDAR