BEGIN:VCALENDAR
VERSION:2.0
PRODID:JMS Hockey
X-PUBLISHED-TTL:P1W
BEGIN:VEVENT
UID:69e7cba91b3dc
DTSTART:20250407T024500Z
SEQUENCE:0
TRANSP:OPAQUE
DTEND:20250407T040000Z
URL:http://jmshockey.com/league/game/2359
LOCATION:Doug Woog Arena (Wakota)
SUMMARY:Farmboys vs. Staal Tactics at Doug Woog Arena (Wakota) (Loon State 
 Hockey Leagues)
CLASS:PUBLIC
DTSTAMP:20260421T141033Z
END:VEVENT
END:VCALENDAR