BEGIN:VCALENDAR
VERSION:2.0
PRODID:JMS Hockey
X-PUBLISHED-TTL:P1W
BEGIN:VEVENT
UID:69e7ae09c2f0f
DTSTART:20150622T002000Z
SEQUENCE:0
TRANSP:OPAQUE
DTEND:20150622T013000Z
URL:http://jmshockey.com/league/game/235
LOCATION:Doug Woog Arena (Wakota)
SUMMARY:Hatrick Swayze vs. Mt. Filthy at Doug Woog Arena (Wakota) (Loon Sta
 te Hockey Leagues)
CLASS:PUBLIC
DTSTAMP:20260421T120409Z
END:VEVENT
END:VCALENDAR