BEGIN:VCALENDAR
VERSION:2.0
PRODID:JMS Hockey
X-PUBLISHED-TTL:P1W
BEGIN:VEVENT
UID:69e791e8821aa
DTSTART:20241028T012000Z
SEQUENCE:0
TRANSP:OPAQUE
DTEND:20241028T023500Z
URL:http://jmshockey.com/league/game/2332
LOCATION:Doug Woog Arena (Wakota)
SUMMARY:Bar down Bandits vs. Farm Boys at Doug Woog Arena (Wakota) (Loon St
 ate Hockey Leagues)
CLASS:PUBLIC
DTSTAMP:20260421T100408Z
END:VEVENT
END:VCALENDAR