BEGIN:VCALENDAR
VERSION:2.0
PRODID:JMS Hockey
X-PUBLISHED-TTL:P1W
BEGIN:VEVENT
UID:69e78c40b0b6c
DTSTART:20241014T021500Z
SEQUENCE:0
TRANSP:OPAQUE
DTEND:20241014T033000Z
URL:http://jmshockey.com/league/game/2331
LOCATION:Doug Woog Arena (Wakota)
SUMMARY:Rubber Puckies vs. Farm Boys at Doug Woog Arena (Wakota) (Loon Stat
 e Hockey Leagues)
CLASS:PUBLIC
DTSTAMP:20260421T094000Z
END:VEVENT
END:VCALENDAR