BEGIN:VCALENDAR
VERSION:2.0
PRODID:JMS Hockey
X-PUBLISHED-TTL:P1W
BEGIN:VEVENT
UID:69e7afcdf0355
DTSTART:20150601T020000Z
SEQUENCE:0
TRANSP:OPAQUE
DTEND:20150601T031000Z
URL:http://jmshockey.com/league/game/229
LOCATION:Inver Grove Heights Community Center
SUMMARY:Hatrick Swayze vs. Mt. Filthy at Inver Grove Heights Community Cent
 er (Loon State Hockey Leagues)
CLASS:PUBLIC
DTSTAMP:20260421T121141Z
END:VEVENT
END:VCALENDAR