BEGIN:VCALENDAR
VERSION:2.0
PRODID:JMS Hockey
X-PUBLISHED-TTL:P1W
BEGIN:VEVENT
UID:69e7a7e78f3a3
DTSTART:20240624T003000Z
SEQUENCE:0
TRANSP:OPAQUE
DTEND:20240624T014500Z
URL:http://jmshockey.com/league/game/2287
LOCATION:Doug Woog Arena (Wakota)
SUMMARY:Bar Down Bandits vs. Rubber Puckies at Doug Woog Arena (Wakota) (Lo
 on State Hockey Leagues)
CLASS:PUBLIC
DTSTAMP:20260421T113759Z
END:VEVENT
END:VCALENDAR