BEGIN:VCALENDAR
VERSION:2.0
PRODID:JMS Hockey
X-PUBLISHED-TTL:P1W
BEGIN:VEVENT
UID:69e765f15ab37
DTSTART:20240806T013000Z
SEQUENCE:0
TRANSP:OPAQUE
DTEND:20240806T024500Z
URL:http://jmshockey.com/league/game/2281
LOCATION:Eden Prairie Comm Ctr
SUMMARY:Zambronies vs. Back Door Bandits at Eden Prairie Comm Ctr (Loon Sta
 te Hockey Leagues)
CLASS:PUBLIC
DTSTAMP:20260421T065633Z
END:VEVENT
END:VCALENDAR