BEGIN:VCALENDAR
VERSION:2.0
PRODID:JMS Hockey
X-PUBLISHED-TTL:P1W
BEGIN:VEVENT
UID:69e765f0e79e8
DTSTART:20240723T003000Z
SEQUENCE:0
TRANSP:OPAQUE
DTEND:20240723T014500Z
URL:http://jmshockey.com/league/game/2278
LOCATION:Eden Prairie Comm Ctr
SUMMARY:Zambronies vs. Dekes Out for Harambe at Eden Prairie Comm Ctr (Loon
  State Hockey Leagues)
CLASS:PUBLIC
DTSTAMP:20260421T065632Z
END:VEVENT
END:VCALENDAR