BEGIN:VCALENDAR
VERSION:2.0
PRODID:JMS Hockey
X-PUBLISHED-TTL:P1W
BEGIN:VEVENT
UID:69e78a3abf736
DTSTART:20240716T001500Z
SEQUENCE:0
TRANSP:OPAQUE
DTEND:20240716T013000Z
URL:http://jmshockey.com/league/game/2276
LOCATION:Eden Prairie Comm Ctr
SUMMARY:Back Door Bandits vs. Zambronies at Eden Prairie Comm Ctr (Loon Sta
 te Hockey Leagues)
CLASS:PUBLIC
DTSTAMP:20260421T093122Z
END:VEVENT
END:VCALENDAR