BEGIN:VCALENDAR
VERSION:2.0
PRODID:JMS Hockey
X-PUBLISHED-TTL:P1W
BEGIN:VEVENT
UID:69e79fe30d2d9
DTSTART:20150518T020000Z
SEQUENCE:0
TRANSP:OPAQUE
DTEND:20150518T031000Z
URL:http://jmshockey.com/league/game/227
LOCATION:Inver Grove Heights Community Center
SUMMARY:Wild for the Cup vs. Hatrick Swayze at Inver Grove Heights Communit
 y Center (Loon State Hockey Leagues)
CLASS:PUBLIC
DTSTAMP:20260421T110347Z
END:VEVENT
END:VCALENDAR