BEGIN:VCALENDAR
VERSION:2.0
PRODID:JMS Hockey
X-PUBLISHED-TTL:P1W
BEGIN:VEVENT
UID:69e791e835277
DTSTART:20240618T003000Z
SEQUENCE:0
TRANSP:OPAQUE
DTEND:20240618T014500Z
URL:http://jmshockey.com/league/game/2268
LOCATION:Eden Prairie Comm Ctr
SUMMARY:Dekes Out for Harambe vs. Back Door Bandits at Eden Prairie Comm Ct
 r (Loon State Hockey Leagues)
CLASS:PUBLIC
DTSTAMP:20260421T100408Z
END:VEVENT
END:VCALENDAR