BEGIN:VCALENDAR
VERSION:2.0
PRODID:JMS Hockey
X-PUBLISHED-TTL:P1W
BEGIN:VEVENT
UID:69e78c0856ef1
DTSTART:20240625T020000Z
SEQUENCE:0
TRANSP:OPAQUE
DTEND:20240625T031500Z
URL:http://jmshockey.com/league/game/2264
LOCATION:Eden Prairie Comm Ctr
SUMMARY:Back Door Bandits vs. Zambronies at Eden Prairie Comm Ctr (Loon Sta
 te Hockey Leagues)
CLASS:PUBLIC
DTSTAMP:20260421T093904Z
END:VEVENT
END:VCALENDAR