BEGIN:VCALENDAR
VERSION:2.0
PRODID:JMS Hockey
X-PUBLISHED-TTL:P1W
BEGIN:VEVENT
UID:69e79a8838b12
DTSTART:20240423T004500Z
SEQUENCE:0
TRANSP:OPAQUE
DTEND:20240423T020000Z
URL:http://jmshockey.com/league/game/2260
LOCATION:Eden Prairie Comm Ctr
SUMMARY:Almost Mighty Gulls vs. Zambroskis at Eden Prairie Comm Ctr (Loon S
 tate Hockey Leagues)
CLASS:PUBLIC
DTSTAMP:20260421T104056Z
END:VEVENT
END:VCALENDAR