BEGIN:VCALENDAR
VERSION:2.0
PRODID:JMS Hockey
X-PUBLISHED-TTL:P1W
BEGIN:VEVENT
UID:69e7ae096f1ee
DTSTART:20150518T004000Z
SEQUENCE:0
TRANSP:OPAQUE
DTEND:20150518T015000Z
URL:http://jmshockey.com/league/game/226
LOCATION:Inver Grove Heights Community Center
SUMMARY:Sunday Knights vs. Mt. Filthy at Inver Grove Heights Community Cent
 er (Loon State Hockey Leagues)
CLASS:PUBLIC
DTSTAMP:20260421T120409Z
END:VEVENT
END:VCALENDAR