BEGIN:VCALENDAR
VERSION:2.0
PRODID:JMS Hockey
X-PUBLISHED-TTL:P1W
BEGIN:VEVENT
UID:69e7a7e73192b
DTSTART:20240416T021500Z
SEQUENCE:0
TRANSP:OPAQUE
DTEND:20240416T033000Z
URL:http://jmshockey.com/league/game/2258
LOCATION:Eden Prairie Comm Ctr
SUMMARY:Almost Mighty Gulls vs. ep 2/3/4 spring 24 team 1 at Eden Prairie C
 omm Ctr (Loon State Hockey Leagues)
CLASS:PUBLIC
DTSTAMP:20260421T113759Z
END:VEVENT
END:VCALENDAR