BEGIN:VCALENDAR
VERSION:2.0
PRODID:JMS Hockey
X-PUBLISHED-TTL:P1W
BEGIN:VEVENT
UID:69e78e46aacdd
DTSTART:20240423T021500Z
SEQUENCE:0
TRANSP:OPAQUE
DTEND:20240423T033000Z
URL:http://jmshockey.com/league/game/2254
LOCATION:Eden Prairie Comm Ctr
SUMMARY:Back Door Bandits vs. ep 2/3/4 spring 24 team 1 at Eden Prairie Com
 m Ctr (Loon State Hockey Leagues)
CLASS:PUBLIC
DTSTAMP:20260421T094838Z
END:VEVENT
END:VCALENDAR