BEGIN:VCALENDAR
VERSION:2.0
PRODID:JMS Hockey
X-PUBLISHED-TTL:P1W
BEGIN:VEVENT
UID:69e79a8facc3c
DTSTART:20150511T020000Z
SEQUENCE:0
TRANSP:OPAQUE
DTEND:20150511T031000Z
URL:http://jmshockey.com/league/game/225
LOCATION:Inver Grove Heights Community Center
SUMMARY:Wild for the Cup vs. Mt. Filthy at Inver Grove Heights Community Ce
 nter (Loon State Hockey Leagues)
CLASS:PUBLIC
DTSTAMP:20260421T104103Z
END:VEVENT
END:VCALENDAR