BEGIN:VCALENDAR
VERSION:2.0
PRODID:JMS Hockey
X-PUBLISHED-TTL:P1W
BEGIN:VEVENT
UID:69e7ae08ef7bd
DTSTART:20150504T020000Z
SEQUENCE:0
TRANSP:OPAQUE
DTEND:20150504T031000Z
URL:http://jmshockey.com/league/game/223
LOCATION:Inver Grove Heights Community Center
SUMMARY:Mt. Filthy vs. Hatrick Swayze at Inver Grove Heights Community Cent
 er (Loon State Hockey Leagues)
CLASS:PUBLIC
DTSTAMP:20260421T120408Z
END:VEVENT
END:VCALENDAR