BEGIN:VCALENDAR
VERSION:2.0
PRODID:JMS Hockey
X-PUBLISHED-TTL:P1W
BEGIN:VEVENT
UID:69e7afd723d21
DTSTART:20150427T014000Z
SEQUENCE:0
TRANSP:OPAQUE
DTEND:20150427T025000Z
URL:http://jmshockey.com/league/game/221
LOCATION:Inver Grove Heights Community Center
SUMMARY:Wild for the Cup vs. Hatrick Swayze at Inver Grove Heights Communit
 y Center (Loon State Hockey Leagues)
CLASS:PUBLIC
DTSTAMP:20260421T121151Z
END:VEVENT
END:VCALENDAR