BEGIN:VCALENDAR
VERSION:2.0
PRODID:JMS Hockey
X-PUBLISHED-TTL:P1W
BEGIN:VEVENT
UID:69e7a40eaee78
DTSTART:20240130T033000Z
SEQUENCE:0
TRANSP:OPAQUE
DTEND:20240130T044500Z
URL:http://jmshockey.com/league/game/2199
LOCATION:Eden Prairie Comm Ctr
SUMMARY:Zambroskis vs. Big Deke Energy at Eden Prairie Comm Ctr (Loon State
  Hockey Leagues)
CLASS:PUBLIC
DTSTAMP:20260421T112134Z
END:VEVENT
END:VCALENDAR