BEGIN:VCALENDAR
VERSION:2.0
PRODID:JMS Hockey
X-PUBLISHED-TTL:P1W
BEGIN:VEVENT
UID:69e7c3e601e34
DTSTART:20150413T020000Z
SEQUENCE:0
TRANSP:OPAQUE
DTEND:20150413T031000Z
URL:http://jmshockey.com/league/game/217
LOCATION:Inver Grove Heights Community Center
SUMMARY:Wild for the Cup vs. Sunday Knights at Inver Grove Heights Communit
 y Center (Loon State Hockey Leagues)
CLASS:PUBLIC
DTSTAMP:20260421T133726Z
END:VEVENT
END:VCALENDAR