BEGIN:VCALENDAR
VERSION:2.0
PRODID:JMS Hockey
X-PUBLISHED-TTL:P1W
BEGIN:VEVENT
UID:69e7ae06a7531
DTSTART:20150413T004000Z
SEQUENCE:0
TRANSP:OPAQUE
DTEND:20150413T015000Z
URL:http://jmshockey.com/league/game/216
LOCATION:Inver Grove Heights Community Center
SUMMARY:Mt. Filthy vs. Hatrick Swayze at Inver Grove Heights Community Cent
 er (Loon State Hockey Leagues)
CLASS:PUBLIC
DTSTAMP:20260421T120406Z
END:VEVENT
END:VCALENDAR