BEGIN:VCALENDAR
VERSION:2.0
PRODID:JMS Hockey
X-PUBLISHED-TTL:P1W
BEGIN:VEVENT
UID:69e7afd77f448
DTSTART:20230808T000000Z
SEQUENCE:0
TRANSP:OPAQUE
DTEND:20230808T011500Z
URL:http://jmshockey.com/league/game/2128
LOCATION:Eden Prairie Comm Ctr
SUMMARY:Dekes out for Harambe vs. Zambronies at Eden Prairie Comm Ctr (Loon
  State Hockey Leagues)
CLASS:PUBLIC
DTSTAMP:20260421T121151Z
END:VEVENT
END:VCALENDAR