BEGIN:VCALENDAR
VERSION:2.0
PRODID:JMS Hockey
X-PUBLISHED-TTL:P1W
BEGIN:VEVENT
UID:69e797fb5650b
DTSTART:20150518T013000Z
SEQUENCE:0
TRANSP:OPAQUE
DTEND:20150518T024500Z
URL:http://jmshockey.com/league/game/212
LOCATION:Eden Prairie Comm Ctr
SUMMARY:Jagrbombs vs. The Mighty Drunks at Eden Prairie Comm Ctr (Loon Stat
 e Hockey Leagues)
CLASS:PUBLIC
DTSTAMP:20260421T103003Z
END:VEVENT
END:VCALENDAR