BEGIN:VCALENDAR
VERSION:2.0
PRODID:JMS Hockey
X-PUBLISHED-TTL:P1W
BEGIN:VEVENT
UID:69e7b193be571
DTSTART:20150511T000000Z
SEQUENCE:0
TRANSP:OPAQUE
DTEND:20150511T011500Z
URL:http://jmshockey.com/league/game/209
LOCATION:Eden Prairie Comm Ctr
SUMMARY:The Mighty Drunks vs. Eric's\, Joe's & a few others at Eden Prairie
  Comm Ctr (Loon State Hockey Leagues)
CLASS:PUBLIC
DTSTAMP:20260421T121915Z
END:VEVENT
END:VCALENDAR