BEGIN:VCALENDAR
VERSION:2.0
PRODID:JMS Hockey
X-PUBLISHED-TTL:P1W
BEGIN:VEVENT
UID:69e797b8d0262
DTSTART:20150420T014500Z
SEQUENCE:0
TRANSP:OPAQUE
DTEND:20150420T030000Z
URL:http://jmshockey.com/league/game/204
LOCATION:Eden Prairie Comm Ctr
SUMMARY:Beer League Racers vs. Jagrbombs at Eden Prairie Comm Ctr (Loon Sta
 te Hockey Leagues)
CLASS:PUBLIC
DTSTAMP:20260421T102856Z
END:VEVENT
END:VCALENDAR