BEGIN:VCALENDAR
VERSION:2.0
PRODID:JMS Hockey
X-PUBLISHED-TTL:P1W
BEGIN:VEVENT
UID:69e7ae0d40a90
DTSTART:20150413T013000Z
SEQUENCE:0
TRANSP:OPAQUE
DTEND:20150413T024500Z
URL:http://jmshockey.com/league/game/202
LOCATION:Eden Prairie Comm Ctr
SUMMARY:Eric's\, Joe's & a few others vs. Jagrbombs at Eden Prairie Comm Ct
 r (Loon State Hockey Leagues)
CLASS:PUBLIC
DTSTAMP:20260421T120413Z
END:VEVENT
END:VCALENDAR