BEGIN:VCALENDAR
VERSION:2.0
PRODID:JMS Hockey
X-PUBLISHED-TTL:P1W
BEGIN:VEVENT
UID:69e7af956ce13
DTSTART:20150413T000000Z
SEQUENCE:0
TRANSP:OPAQUE
DTEND:20150413T011500Z
URL:http://jmshockey.com/league/game/201
LOCATION:Eden Prairie Comm Ctr
SUMMARY:The Mighty Drunks vs. Beer League Racers at Eden Prairie Comm Ctr (
 Loon State Hockey Leagues)
CLASS:PUBLIC
DTSTAMP:20260421T121045Z
END:VEVENT
END:VCALENDAR