BEGIN:VCALENDAR
VERSION:2.0
PRODID:JMS Hockey
X-PUBLISHED-TTL:P1W
BEGIN:VEVENT
UID:69e7b19373f6f
DTSTART:20150330T013000Z
SEQUENCE:0
TRANSP:OPAQUE
DTEND:20150330T024500Z
URL:http://jmshockey.com/league/game/200
LOCATION:Eden Prairie Comm Ctr
SUMMARY:Beer League Racers vs. Eric's\, Joe's & a few others at Eden Prairi
 e Comm Ctr (Loon State Hockey Leagues)
CLASS:PUBLIC
DTSTAMP:20260421T121915Z
END:VEVENT
END:VCALENDAR