BEGIN:VCALENDAR
VERSION:2.0
PRODID:JMS Hockey
X-PUBLISHED-TTL:P1W
BEGIN:VEVENT
UID:69e7b193d7187
DTSTART:20140106T033000Z
SEQUENCE:0
TRANSP:OPAQUE
DTEND:20140106T033000Z
URL:http://jmshockey.com/league/game/20
LOCATION:Eden Prairie Comm Ctr
SUMMARY:The Stick Magnets vs. 100 Ways to Score at Eden Prairie Comm Ctr (L
 oon State Hockey Leagues)
CLASS:PUBLIC
DTSTAMP:20260421T121915Z
END:VEVENT
END:VCALENDAR