BEGIN:VCALENDAR
VERSION:2.0
PRODID:JMS Hockey
X-PUBLISHED-TTL:P1W
BEGIN:VEVENT
UID:69e7964e99097
DTSTART:20150330T000000Z
SEQUENCE:0
TRANSP:OPAQUE
DTEND:20150330T011500Z
URL:http://jmshockey.com/league/game/199
LOCATION:Eden Prairie Comm Ctr
SUMMARY:Jagrbombs vs. The Mighty Drunks at Eden Prairie Comm Ctr (Loon Stat
 e Hockey Leagues)
CLASS:PUBLIC
DTSTAMP:20260421T102254Z
END:VEVENT
END:VCALENDAR