BEGIN:VCALENDAR
VERSION:2.0
PRODID:JMS Hockey
X-PUBLISHED-TTL:P1W
BEGIN:VEVENT
UID:69e79a90acc78
DTSTART:20150323T000000Z
SEQUENCE:0
TRANSP:OPAQUE
DTEND:20150323T011500Z
URL:http://jmshockey.com/league/game/197
LOCATION:Eden Prairie Comm Ctr
SUMMARY:Beer League Racers vs. Jagrbombs at Eden Prairie Comm Ctr (Loon Sta
 te Hockey Leagues)
CLASS:PUBLIC
DTSTAMP:20260421T104104Z
END:VEVENT
END:VCALENDAR