BEGIN:VCALENDAR
VERSION:2.0
PRODID:JMS Hockey
X-PUBLISHED-TTL:P1W
BEGIN:VEVENT
UID:69e7a7e8f3786
DTSTART:20220502T023000Z
SEQUENCE:0
TRANSP:OPAQUE
DTEND:20220502T034500Z
URL:http://jmshockey.com/league/game/1967
LOCATION:Doug Woog Arena (Wakota)
SUMMARY:Rubber Puckies vs. BarDown Bandits at Doug Woog Arena (Wakota) (Loo
 n State Hockey Leagues)
CLASS:PUBLIC
DTSTAMP:20260421T113801Z
END:VEVENT
END:VCALENDAR